BEGIN:VCALENDAR
VERSION:2.0
PRODID:koenigchristian.de
METHOD:PUBLISH
BEGIN:VTIMEZONE
TZID:Europe/Berlin
X-LIC-LOCATION:Europe/Berlin
BEGIN:DAYLIGHT
TZOFFSETFROM:+0100
TZOFFSETTO:+0200
TZNAME:CEST
DTSTART:19700329T020000
RRULE:FREQ=YEARLY;INTERVAL=1;BYDAY=-1SU;BYMONTH=3
END:DAYLIGHT
BEGIN:STANDARD
TZOFFSETFROM:+0200
TZOFFSETTO:+0100
TZNAME:CET
DTSTART:19701025T030000
RRULE:FREQ=YEARLY;INTERVAL=1;BYDAY=-1SU;BYMONTH=10
END:STANDARD
END:VTIMEZONE
BEGIN:VEVENT
UID:24685e28ab2bb4dcf32716d07fb75ab3@koenigchristian.de
URL;VALUE=URI:https://koenigchristian.de/termine/unterwegs-im-wahlkreis-m
 it-andi-krahl-mdl/
LOCATION:Wahlkreis
SUMMARY:Besuche in Peiting & Schongau mit Andi Hanna-Krahl, MdL
DESCRIPTION;ALTREP="data:text/html,":
CLASS:PUBLIC
DTSTART;TZID=Europe/Berlin:20250123T150000
DTEND;TZID=Europe/Berlin:20250123T200000
DTSTAMP:20260426T024256
END:VEVENT
END:VCALENDAR